BEGIN:VCALENDAR
VERSION:2.0
PRODID:SchoolNow
CALSCALE:GREGORIAN
BEGIN:VEVENT
UID:8b057126-9af9-11ec-a5f1-0a6bcde30b9b
DTSTAMP:20220728T141119Z
SUMMARY:CDD Board Meeting - Aug. 2022 - Cancelled
LOCATION:Maureen B. Gauzza Public Library\, Community Room 204B\, 11211 Cou
 ntryway Boulevard\, Tampa\, Florida 33626
URL;VALUE=URI:https://www.westchestersdd.org/calendar/3122954/cdd-board-mee
 ting-aug-2022
DTSTART:20220817T183000Z
DTEND:20220817T193000Z
END:VEVENT
END:VCALENDAR
