BEGIN:VCALENDAR
VERSION:2.0
PRODID:SchoolNow
CALSCALE:GREGORIAN
BEGIN:VEVENT
UID:5daf72f2-31d2-11f1-85d7-0affdecbe46f
DTSTAMP:20260406T160525Z
SUMMARY:Special SDD Board Meeting - May 2026 (immediately following Special
  SDD Workshop Meeting)
LOCATION:Maureen B. Gauzza Regional Library\, 11211 Countryway Boulevard\, 
 Tampa\, FL 33626
URL;VALUE=URI:https://www.westchestersdd.org/calendar/8974343/special-sdd-b
 oard-meeting-may-2026-immediately-following-special-sdd-workshop-meeting
DTSTART:20260504T190000Z
DTEND:20260504T200000Z
END:VEVENT
END:VCALENDAR
